BEGIN:VCALENDAR
VERSION:2.0
PRODID:icalendar-ruby
CALSCALE:GREGORIAN
BEGIN:VEVENT
DTSTAMP:20260425T220203Z
UID:319f5371-0d3d-4aa6-be5f-af5c24dc5f31
DTSTART;VALUE=DATE:20250810
DESCRIPTION:Property ID# 960581\, Time: 10:30AM
SUMMARY:Auction for 
END:VEVENT
END:VCALENDAR
