BEGIN:VCALENDAR
VERSION:2.0
PRODID:icalendar-ruby
CALSCALE:GREGORIAN
BEGIN:VEVENT
DTSTAMP:20260425T220012Z
UID:4937d65c-51d4-4fb9-8a23-829cc1a43f53
DTSTART;VALUE=DATE:20250823
DESCRIPTION:Property ID# 957746\, Time: 1:30PM
SUMMARY:Auction for 
END:VEVENT
END:VCALENDAR
