BEGIN:VCALENDAR
VERSION:2.0
PRODID:icalendar-ruby
CALSCALE:GREGORIAN
BEGIN:VEVENT
DTSTAMP:20260425T215600Z
UID:5be375a6-b273-4ebc-b3af-234c6a405f29
DTSTART;VALUE=DATE:20250726
DESCRIPTION:Property ID# 955815\, Time: 11:15AM
SUMMARY:Auction for 
END:VEVENT
END:VCALENDAR
